BEGIN:VCALENDAR
VERSION:2.0
PRODID:-//shethemovement.com - ECPv6.15.13//NONSGML v1.0//EN
CALSCALE:GREGORIAN
METHOD:PUBLISH
X-WR-CALNAME:shethemovement.com
X-ORIGINAL-URL:https://shethemovement.com
X-WR-CALDESC:Events for shethemovement.com
REFRESH-INTERVAL;VALUE=DURATION:PT1H
X-Robots-Tag:noindex
X-PUBLISHED-TTL:PT1H
BEGIN:VTIMEZONE
TZID:America/New_York
BEGIN:DAYLIGHT
TZOFFSETFROM:-0500
TZOFFSETTO:-0400
TZNAME:EDT
DTSTART:20240310T070000
END:DAYLIGHT
BEGIN:STANDARD
TZOFFSETFROM:-0400
TZOFFSETTO:-0500
TZNAME:EST
DTSTART:20241103T060000
END:STANDARD
BEGIN:DAYLIGHT
TZOFFSETFROM:-0500
TZOFFSETTO:-0400
TZNAME:EDT
DTSTART:20250309T070000
END:DAYLIGHT
BEGIN:STANDARD
TZOFFSETFROM:-0400
TZOFFSETTO:-0500
TZNAME:EST
DTSTART:20251102T060000
END:STANDARD
BEGIN:DAYLIGHT
TZOFFSETFROM:-0500
TZOFFSETTO:-0400
TZNAME:EDT
DTSTART:20260308T070000
END:DAYLIGHT
BEGIN:STANDARD
TZOFFSETFROM:-0400
TZOFFSETTO:-0500
TZNAME:EST
DTSTART:20261101T060000
END:STANDARD
END:VTIMEZONE
BEGIN:VEVENT
DTSTART;TZID=America/New_York:20251008T180000
DTEND;TZID=America/New_York:20251008T200000
DTSTAMP:20260421T223022
CREATED:20250831T231632Z
LAST-MODIFIED:20251008T001715Z
UID:1357-1759946400-1759953600@shethemovement.com
SUMMARY:Julie Chapon\, 2 ans après : les réussites et challenges de Yuka aux US
DESCRIPTION:A l’été 2023\, Julie Chapon\, la fondatrice de l’application de scan des produits alimentaires et cosmétiques Yuka\, arrivait à New York avec sa famille et ses deux cofondateurs\, pour avancer plus vite dans la conquête du marché américain. Elle ne devait rester qu’un an mais a décidé de prolonger son séjour pour écrire la suite de l’aventure Yuka aux Etats-Unis. \nAprès avoir partagé un premier bilan il y a un an avec la communauté SHE dont elle est membre active\, Julie Chapon sera à nouveau notre invitée speaker du mois d’octobre. Elle nous racontera comment Yuka a enfin réussi à craquer les codes des médias américains\, avec une très belle couverture récente par le New York Times\, le Wall Street Journal\, Fow\, CBS etc). La société a aussi lancé une fonctionnalité qui permet aux utilisateurs de signaler les additifs dangereux aux producteurs et marques\, une vraie révolution dans un pays où le lobby agroalimentaire pèse très lourd. \nJulie nous parlera des enseignements de ces deux années américaines\, les différences culturelles qui l’ont marqué dans sa vie personnelle et de famille à New York\, et ses principaux défis pour sa dernière année d’expatriation. \nNous serons reçues dans les locaux de l’application Weward\, qui vous incite à marcher plus grâce à la gamification.
URL:https://shethemovement.com/event/julie-chapon-2-ans-apres-les-reussites-et-challenges-de-yuka-aux-us/
LOCATION:WeWard\, 12 East 33rd Street\, New York\, NY\, 10016\, United States
ATTACH;FMTTYPE=image/jpeg:https://shethemovement.com/wp-content/uploads/2025/08/Julie-Chapon-4.jpg
END:VEVENT
END:VCALENDAR