BEGIN:VCALENDAR
VERSION:2.0
PRODID:-//shethemovement.com - ECPv6.15.13//NONSGML v1.0//EN
CALSCALE:GREGORIAN
METHOD:PUBLISH
X-ORIGINAL-URL:https://shethemovement.com
X-WR-CALDESC:Events for shethemovement.com
REFRESH-INTERVAL;VALUE=DURATION:PT1H
X-Robots-Tag:noindex
X-PUBLISHED-TTL:PT1H
BEGIN:VTIMEZONE
TZID:America/New_York
BEGIN:DAYLIGHT
TZOFFSETFROM:-0500
TZOFFSETTO:-0400
TZNAME:EDT
DTSTART:20250309T070000
END:DAYLIGHT
BEGIN:STANDARD
TZOFFSETFROM:-0400
TZOFFSETTO:-0500
TZNAME:EST
DTSTART:20251102T060000
END:STANDARD
BEGIN:DAYLIGHT
TZOFFSETFROM:-0500
TZOFFSETTO:-0400
TZNAME:EDT
DTSTART:20260308T070000
END:DAYLIGHT
BEGIN:STANDARD
TZOFFSETFROM:-0400
TZOFFSETTO:-0500
TZNAME:EST
DTSTART:20261101T060000
END:STANDARD
BEGIN:DAYLIGHT
TZOFFSETFROM:-0500
TZOFFSETTO:-0400
TZNAME:EDT
DTSTART:20270314T070000
END:DAYLIGHT
BEGIN:STANDARD
TZOFFSETFROM:-0400
TZOFFSETTO:-0500
TZNAME:EST
DTSTART:20271107T060000
END:STANDARD
END:VTIMEZONE
BEGIN:VEVENT
DTSTART;TZID=America/New_York:20260429T183000
DTEND;TZID=America/New_York:20260429T203000
DTSTAMP:20260421T205006
CREATED:20260312T205907Z
LAST-MODIFIED:20260325T143015Z
UID:2883-1777487400-1777494600@shethemovement.com
SUMMARY:Rencontre avec Valentine Blondel\, Perrotin New York
DESCRIPTION:Le 29 avril\, nous vous invitons à une soirée d’immersion dans l’univers artistique de la renommée galerie Perrotin à New York. Nous serons reçues par Valentine Blondel\, directrice Perrotin à New York\, pour une soirée dans la galerie\, privatisée pour l’occasion. \nNous aurons le privilège de rencontrer Valentine Blondel\,  qui après un début de carrière dans un bureau de courtage en art moderne\, a commencé à la galerie Perrotin en 2010\, puis a déménagé a New York trois ans plus tard pour ouvrir Perrotin New York\, et porter le développement américain de cette galerie iconique à Paris. La somptueuse galerie est située sur trois étages\, dans un immeuble centenaire et riche d’histoire du Lower East Side. \nValentine nous racontera la genèse de la galerie Perrotin à New York\, son parcours dans cette entreprise familiale et comment elle aborde son métier dans l’immense marché de l’art américain. \nEnfin\, elle nous fera une visite privée de la galerie\, et expliquera les principales pièces de l’exposition en cours dans la galerie\, et l’univers des artistes : Jens Fange\, Rima Banerjee et Nick Doyle. \nNe manquez pas cette rencontre inspirante avec Valentine\, placée sous le signe de l’art et de l’inspiration visuelle 💫
URL:https://shethemovement.com/event/rencontre-avec-valentine-blondel-perrotin-new-york/
LOCATION:Galerie Perrotin New York\, 130 Orchard Street\, New York\, NY\, 10002\, United States
ATTACH;FMTTYPE=image/png:https://shethemovement.com/wp-content/uploads/2026/03/Screenshot-2026-03-11-at-3.22.13-PM-e1773349245575.png
END:VEVENT
BEGIN:VEVENT
DTSTART;TZID=America/New_York:20260506T183000
DTEND;TZID=America/New_York:20260506T203000
DTSTAMP:20260421T205006
CREATED:20260414T181213Z
LAST-MODIFIED:20260421T201802Z
UID:3175-1778092200-1778099400@shethemovement.com
SUMMARY:Empower Your Pitch - avec Crystelle Desnoyer et Business France
DESCRIPTION:SHE the movement s’associe à Business France pour une soirée dédiée aux femmes entrepreneures francophones à New York. \nL’objectif : vous aider à adapter votre storytelling et votre pitch à une audience américaine\, avec ses codes\, ses attentes et son rythme. \nCar entreprendre aux États-Unis ne consiste pas seulement à traduire son discours — il s’agit de le transformer pour capter l’attention\, créer de l’impact et susciter des opportunités. \nCet événement est réservé aux femmes entrepreneures à New York\, qu’elles soient solos ou cofondatrices\, en lancement ou en développement\, et qui souhaitent mieux se positionner sur le marché américain. \nPitcher à New York implique souvent d’aller droit au but\, d’exprimer clairement sa proposition de valeur\, d’adopter une posture plus affirmée et\, bien sûr\, de raconter une histoire qui résonne culturellement. Cet atelier vous permettra de faire évoluer votre pitch avec des clés concrètes. \nIl sera animé par Crystelle Desnoyer\, en charge des partenariats entreprises stratégiques pour l’IA générative chez Adobe\, ex-chief of staff chez l’accélérateur de startup Techstars et ancienne membre du board de la French Tech New York. Très ancrée dans l’écosystème anglo-saxon\, Crystelle nous expliquera les codes business américains\, les “soft skills” à développer pour optimiser votre discours et capter l’attention de votre audience. \nCette prise de parole sera suivie d’une session de “speed pitching”\, où chaque participante pourra pratiquer son pitch d’1min auprès d’une autre entrepreneure\, en binôme. \nL’événement a été conçu comme un espace bienveillant\, dynamique et concret pour vous aider à structurer votre message\, gagner en confiance et optimiser votre storytelling.
URL:https://shethemovement.com/event/empower-your-pitch-avec-crystelle-desnoyer-et-business-france/
LOCATION:Business France\, 1700 Broadway\, New York\, 10019\, United States
ATTACH;FMTTYPE=image/jpeg:https://shethemovement.com/wp-content/uploads/2026/04/Headshot-Crystelle-Desnoyer-1-1.jpeg
END:VEVENT
END:VCALENDAR