BEGIN:VCALENDAR
VERSION:2.0
PRODID:-//shethemovement.com - ECPv6.15.13//NONSGML v1.0//EN
CALSCALE:GREGORIAN
METHOD:PUBLISH
X-WR-CALNAME:shethemovement.com
X-ORIGINAL-URL:https://shethemovement.com
X-WR-CALDESC:Events for shethemovement.com
REFRESH-INTERVAL;VALUE=DURATION:PT1H
X-Robots-Tag:noindex
X-PUBLISHED-TTL:PT1H
BEGIN:VTIMEZONE
TZID:America/New_York
BEGIN:DAYLIGHT
TZOFFSETFROM:-0500
TZOFFSETTO:-0400
TZNAME:EDT
DTSTART:20240310T070000
END:DAYLIGHT
BEGIN:STANDARD
TZOFFSETFROM:-0400
TZOFFSETTO:-0500
TZNAME:EST
DTSTART:20241103T060000
END:STANDARD
BEGIN:DAYLIGHT
TZOFFSETFROM:-0500
TZOFFSETTO:-0400
TZNAME:EDT
DTSTART:20250309T070000
END:DAYLIGHT
BEGIN:STANDARD
TZOFFSETFROM:-0400
TZOFFSETTO:-0500
TZNAME:EST
DTSTART:20251102T060000
END:STANDARD
BEGIN:DAYLIGHT
TZOFFSETFROM:-0500
TZOFFSETTO:-0400
TZNAME:EDT
DTSTART:20260308T070000
END:DAYLIGHT
BEGIN:STANDARD
TZOFFSETFROM:-0400
TZOFFSETTO:-0500
TZNAME:EST
DTSTART:20261101T060000
END:STANDARD
END:VTIMEZONE
BEGIN:VEVENT
DTSTART;TZID=America/New_York:20251023T090000
DTEND;TZID=America/New_York:20251023T110000
DTSTAMP:20260421T223745
CREATED:20251001T160259Z
LAST-MODIFIED:20251021T010402Z
UID:1790-1761210000-1761217200@shethemovement.com
SUMMARY:Cercle d'entrepreneures animé par Claire Obry
DESCRIPTION:Rejoignez-nous pour l’atelier entrepreneures emmené par Claire Obry\, fondatrice de la plateforme de produits français French Wink. \nChaque mois\, un groupe de six entrepreneures ou entrepreneures-to-be se retrouve pour échanger sur leurs problématiques\, se soutenir et brainstormer ensemble sur le projet de chacune à travers le co-développement. \nLe partage\, la bienveillance et la confidentialité sont les valeurs fortes de ces cercles\, que chaque participante s’engage à respecter au début de chaque rendez-vous. \nCes cercles ont lieu dans les bureaux de notre partenaire Carr Workplaces sur la Cinquième Avenue\, à quelques blocs de Central Park.
URL:https://shethemovement.com/event/cercle-dentrepreneures-anime-par-claire-obry/
LOCATION:Carr Workplaces\, 745 Fifth avenue\, New York\, NY\, 11222\, United States
ATTACH;FMTTYPE=image/jpeg:https://shethemovement.com/wp-content/uploads/2025/08/Carr-workplaces-copie-e1755877559508.jpg
END:VEVENT
BEGIN:VEVENT
DTSTART;TZID=America/New_York:20251021T090000
DTEND;TZID=America/New_York:20251021T110000
DTSTAMP:20260421T223745
CREATED:20251001T160024Z
LAST-MODIFIED:20251001T160107Z
UID:1785-1761037200-1761044400@shethemovement.com
SUMMARY:Cercle d'entrepreneures animé par Laure Gudgel
DESCRIPTION:Rejoignez-nous pour l’atelier entrepreneures emmené par la coach professionnelle Laure Gudgel. \nChaque mois\, un groupe de six entrepreneures ou entrepreneures-to-be se retrouve pour échanger sur leurs problématiques\, se soutenir et brainstormer ensemble sur le projet de chacune à travers le co-développement. \nLe partage\, la bienveillance et la confidentialité sont les valeurs fortes de ces cercles\, que chaque participante s’engage à respecter au début de chaque rendez-vous. \nCes cercles ont lieu dans les bureaux de notre partenaire Carr Workplaces sur la Cinquième Avenue\, à quelques blocs de Central Park. \nCe cercle se tiendra mensuellement et tous les mardis.
URL:https://shethemovement.com/event/cercle-dentrepreneures-anime-par-laure/
LOCATION:Carr Workplaces\, 745 Fifth avenue\, New York\, NY\, 11222\, United States
ATTACH;FMTTYPE=image/jpeg:https://shethemovement.com/wp-content/uploads/2025/07/Carr-workplaces-meeting-room-copie-e1755877531736.jpg
END:VEVENT
BEGIN:VEVENT
DTSTART;TZID=America/New_York:20251015T193000
DTEND;TZID=America/New_York:20251015T210000
DTSTAMP:20260421T223745
CREATED:20250912T160524Z
LAST-MODIFIED:20250912T200405Z
UID:1609-1760556600-1760562000@shethemovement.com
SUMMARY:Table & Tales
DESCRIPTION:✨ Table & Tales • Une nouvelle façon de se rencontrer ✨ \n« Table & Tales » est le dîner réservé aux membres She the Movement. Une soirée intimiste pour échanger\, partager et créer des liens dans un cadre convivial et choisi avec soin. \nTous les 2 mois\, nous vous donnons rendez-vous dans un restaurant sélectionné avec attention\, pour un dîner intimiste (10 personnes maximum) où chaque conversation est guidée par vos hôtes\, Cyrielle & Anne-Laure. \nLe concept ? \n\nUn menu mix & fixe conçu pour éveiller vos papilles\nUne ambiance chaleureuse propice aux échanges et aux nouvelles rencontres\nDes discussions inspirantes pour connecter avec d’autres membres\n\n  \nNous aurons le plaisir d’être accueillies chez Lume\, bar à cocktails et restaurant du West Village\, où saveurs et ambiance se rencontrent. Leur menu combine cuisine italienne moderne\, touches françaises et classiques américains\, le tout accompagné d’une sélection raffinée de viens et cocktails. \nCette expérience comprend : \n\nUn verre de bienvenue : choisissez entre un pétillant Blanc de Blanc ou un Rosé\nDes entrées à partager : parfaites pour commencer la soirée ensemble.\nUn plat principal servi individuellement pour savourer pleinement chaque bouchée\nUn dessert à partager\, pour finir sur une note sucrée et conviviale\nVin à volonté (rouge\, blanc ou rosé) pour trinquer à nos moments partagés\nBière à volonté (Menabrea\, Moretti ou Peroni) pour les amateurs de bulles houblonnées\nPrix fixe : $90 par personne (plus tax and 20% gratuity\, paiement sur place))\n\n  \nUne soirée unique où le plaisir de partager un bon repas rencontre la joie de rencontrer de nouvelles femmes de la communauté. \n💫 Faites de nouvelles rencontres et réservez votre place pour le prochain « Table & Tales »!
URL:https://shethemovement.com/event/table-tales/
LOCATION:Lume\, 259 W 4th St Store\, new york\, NY\, 10014\, United States
ATTACH;FMTTYPE=image/jpeg:https://shethemovement.com/wp-content/uploads/2025/09/2024-11-11-e1757707434227.jpg
END:VEVENT
BEGIN:VEVENT
DTSTART;TZID=America/New_York:20251014T180000
DTEND;TZID=America/New_York:20251014T200000
DTSTAMP:20260421T223745
CREATED:20250822T152614Z
LAST-MODIFIED:20250918T171712Z
UID:1085-1760464800-1760472000@shethemovement.com
SUMMARY:Atelier d'écriture avec l'autrice Hélène Drummond
DESCRIPTION:La rentrée est souvent synonyme de bonnes résolutions\, comme celle de donner plus de place à notre créativité. \nSi vous avez envie de vous prêter au jeu de l’écriture\, simplement pour vous évader ou pour un vrai projet de roman\, nous vous invitons à participer à cet atelier d’écriture créative avec Hélène Drummond\, autrice belge et membre SHE qui a déjà publié quatre romans\, dont certains ont été traduits en anglais. \nOutre son activité de médecin consultante\, Hélène Drummond donne des cours privés d’écriture à New York. Elle nous proposera plusieurs exercices ludiques et interactifs pour débloquer le premier jet\, nous donnera des conseils pratiques de professionnelle de ce métier\, mais aussi des techniques personnalisées pour aider chacune d’entre nous\, en fonction de notre expérience et de nos besoins. \nRejoignez-nous pour ce moment d’exploration par les mots\, qui ont le pouvoir de résoudre bien des maux 🙂 \n  \n 
URL:https://shethemovement.com/event/atelier-decriture-avec-lautrice-helene-drummond/
LOCATION:WeWork\, 1460 Broadway\, New York\, New York\, 10036\, United States
ATTACH;FMTTYPE=image/jpeg:https://shethemovement.com/wp-content/uploads/2025/08/Helene-Drummond.jpg
END:VEVENT
BEGIN:VEVENT
DTSTART;TZID=America/New_York:20251008T180000
DTEND;TZID=America/New_York:20251008T200000
DTSTAMP:20260421T223745
CREATED:20250831T231632Z
LAST-MODIFIED:20251008T001715Z
UID:1357-1759946400-1759953600@shethemovement.com
SUMMARY:Julie Chapon\, 2 ans après : les réussites et challenges de Yuka aux US
DESCRIPTION:A l’été 2023\, Julie Chapon\, la fondatrice de l’application de scan des produits alimentaires et cosmétiques Yuka\, arrivait à New York avec sa famille et ses deux cofondateurs\, pour avancer plus vite dans la conquête du marché américain. Elle ne devait rester qu’un an mais a décidé de prolonger son séjour pour écrire la suite de l’aventure Yuka aux Etats-Unis. \nAprès avoir partagé un premier bilan il y a un an avec la communauté SHE dont elle est membre active\, Julie Chapon sera à nouveau notre invitée speaker du mois d’octobre. Elle nous racontera comment Yuka a enfin réussi à craquer les codes des médias américains\, avec une très belle couverture récente par le New York Times\, le Wall Street Journal\, Fow\, CBS etc). La société a aussi lancé une fonctionnalité qui permet aux utilisateurs de signaler les additifs dangereux aux producteurs et marques\, une vraie révolution dans un pays où le lobby agroalimentaire pèse très lourd. \nJulie nous parlera des enseignements de ces deux années américaines\, les différences culturelles qui l’ont marqué dans sa vie personnelle et de famille à New York\, et ses principaux défis pour sa dernière année d’expatriation. \nNous serons reçues dans les locaux de l’application Weward\, qui vous incite à marcher plus grâce à la gamification.
URL:https://shethemovement.com/event/julie-chapon-2-ans-apres-les-reussites-et-challenges-de-yuka-aux-us/
LOCATION:WeWard\, 12 East 33rd Street\, New York\, NY\, 10016\, United States
ATTACH;FMTTYPE=image/jpeg:https://shethemovement.com/wp-content/uploads/2025/08/Julie-Chapon-4.jpg
END:VEVENT
END:VCALENDAR