BEGIN:VCALENDAR
VERSION:2.0
PRODID:-//shethemovement.com - ECPv6.15.13//NONSGML v1.0//EN
CALSCALE:GREGORIAN
METHOD:PUBLISH
X-WR-CALNAME:shethemovement.com
X-ORIGINAL-URL:https://shethemovement.com
X-WR-CALDESC:Events for shethemovement.com
REFRESH-INTERVAL;VALUE=DURATION:PT1H
X-Robots-Tag:noindex
X-PUBLISHED-TTL:PT1H
BEGIN:VTIMEZONE
TZID:America/New_York
BEGIN:DAYLIGHT
TZOFFSETFROM:-0500
TZOFFSETTO:-0400
TZNAME:EDT
DTSTART:20240310T070000
END:DAYLIGHT
BEGIN:STANDARD
TZOFFSETFROM:-0400
TZOFFSETTO:-0500
TZNAME:EST
DTSTART:20241103T060000
END:STANDARD
BEGIN:DAYLIGHT
TZOFFSETFROM:-0500
TZOFFSETTO:-0400
TZNAME:EDT
DTSTART:20250309T070000
END:DAYLIGHT
BEGIN:STANDARD
TZOFFSETFROM:-0400
TZOFFSETTO:-0500
TZNAME:EST
DTSTART:20251102T060000
END:STANDARD
BEGIN:DAYLIGHT
TZOFFSETFROM:-0500
TZOFFSETTO:-0400
TZNAME:EDT
DTSTART:20260308T070000
END:DAYLIGHT
BEGIN:STANDARD
TZOFFSETFROM:-0400
TZOFFSETTO:-0500
TZNAME:EST
DTSTART:20261101T060000
END:STANDARD
END:VTIMEZONE
BEGIN:VEVENT
DTSTART;TZID=America/New_York:20251104T190000
DTEND;TZID=America/New_York:20251104T203000
DTSTAMP:20260421T173347
CREATED:20251014T211858Z
LAST-MODIFIED:20251015T012609Z
UID:1872-1762282800-1762288200@shethemovement.com
SUMMARY:Workshop Libido avec L'atelier Sexo
DESCRIPTION:🔥 Atelier Sexo :  Mieux vivre son énergie sexuelle \nMieux vivre sa libido en nourrissant son flow avec Cyrielle Augier •  Sexothérapeute & Thérapeute de couple @ l atelier sexo \nLa libido n’a rien d’un réflexe automatique. Elle n’est pas un devoir conjugal\, ni un signe de performance ou de réussite intime. C’est une énergie intérieure\, sensible\, parfois puissante\, parfois silencieuse… mais toujours profondément personnelle. Pourtant\, pour beaucoup de femmes\, elle reste source de doutes\, de culpabilité ou de malaise. \nEn consultation\, une question revient sans cesse :\n« Suis-je normale si je n’ai pas envie ? » \nAujourd’hui en France\, 6 femmes sur 10 disent manquer d’envie sexuelle. Elles s’interrogent\, parfois se comparent\, souvent se taisent. La charge mentale\, la fatigue\, les hormones\, le stress\, la maternité\, certaines blessures émotionnelles ou expériences passées viennent impacter le désir. La sexualité se met alors en pause… mais rarement la pression qui va avec. \nBonne nouvelle : rien n’est irréversible.\nLa libido n’est pas un capital figé\, encore moins une fatalité. C’est un flow — il se nourrit\, se réveille\, se travaille. À condition d’apprendre à mieux le connaître. \n🎯 Dans cet atelier\, nous explorerons ensemble : \n\nCe qu’est vraiment la libido (et ce qu’elle n’est pas)\nD’où vient le désir et comment il circule\nPourquoi il disparaît parfois… et pourquoi ce n’est pas un drame\nLes freins invisibles : charge mentale\, pression\, routine\, éducation\, émotions…\nPourquoi certaines croyances coupent du désir\nComment réactiver son énergie sexuelle avec douceur et réalisme\n\n✨ Cet atelier est pour toi si : \n\nTu te demandes où est passée ta libido\nTu veux mieux comprendre ton corps et ton fonctionnement\nTu veux arrêter de culpabiliser concernant ton désir\nTu veux redonner une place au plaisir dans ta vie\nTu veux raviver ton feu intérieur (seule ou en couple)\n\nCet atelier est un espace safe\, pédagogique et décomplexé pour poser des mots sur ce que beaucoup vivent sans jamais l’exprimer.
URL:https://shethemovement.com/event/workshop-libido-avec-latelier-sexo/
LOCATION:WeWork\, 1460 Broadway\, New York\, New York\, 10036\, United States
ATTACH;FMTTYPE=image/png:https://shethemovement.com/wp-content/uploads/2025/10/Cyrielle-Atelier-Sexo-e1760491018906.png
END:VEVENT
BEGIN:VEVENT
DTSTART;TZID=America/New_York:20251111T183000
DTEND;TZID=America/New_York:20251111T203000
DTSTAMP:20260421T173347
CREATED:20251001T162958Z
LAST-MODIFIED:20251110T182300Z
UID:1793-1762885800-1762893000@shethemovement.com
SUMMARY:Guest speaker et dégustation de champagne avec Pauline Vranken
DESCRIPTION:Un héritage familial fort et un art de vivre à la française : le champagne\, pour conquérir les Etats-Unis. \nLe 11 novembre prochain\, nous aurons le grand plaisir d’accueillir Pauline Vranken\, CEO de Vranken Pommery America\, pour une soirée intimiste placée sous le signe de l’histoire\, de l’héritage et du champagne. \nPauline partagera son parcours personnel\, marqué par son enfance au sein d’une grande famille de champagne\, et reviendra sur l’héritage qui continue d’inspirer son leadership aujourd’hui. Mais aussi le défi qu’elle s’est lancée en s’installant à New York en 2022 pour y développer la maison aux Etats-Unis. \nEnsuite\, elle nous guidera également dans une dégustation de deux cuvées d’exception\, offrant une occasion rare de découvrir le champagne à travers le prisme de la tradition familiale et de l’innovation. \nCette rencontre unique ne sera pas seulement dédiée au champagne\, mais aussi à l’héritage\, à la résilience et au pouvoir des femmes qui transforment les industries. \nLes places étant limitées\, rejoignez-nous pour cette occasion unique de partager\, d’apprendre et de lever ensemble nos verres. 🥂
URL:https://shethemovement.com/event/guest-speaker-et-degustation-de-champagne-avec-pauline-vranken/
LOCATION:Carr Workplaces\, 745 Fifth avenue\, New York\, NY\, 11222\, United States
ATTACH;FMTTYPE=image/jpeg:https://shethemovement.com/wp-content/uploads/2025/10/1000001751.jpg
END:VEVENT
BEGIN:VEVENT
DTSTART;TZID=America/New_York:20251118T090000
DTEND;TZID=America/New_York:20251118T110000
DTSTAMP:20260421T173347
CREATED:20251027T202501Z
LAST-MODIFIED:20251027T202501Z
UID:1966-1763456400-1763463600@shethemovement.com
SUMMARY:Cercle d'entrepreneures animé par Laure Gudgel
DESCRIPTION:Rejoignez-nous pour l’atelier entrepreneures emmené par la coach professionnelle Laure Gudgel. \nChaque mois\, un groupe de six entrepreneures ou entrepreneures-to-be se retrouve pour échanger sur leurs problématiques\, se soutenir et brainstormer ensemble sur le projet de chacune à travers le co-développement. \nLe partage\, la bienveillance et la confidentialité sont les valeurs fortes de ces cercles\, que chaque participante s’engage à respecter au début de chaque rendez-vous. \nCes cercles ont lieu dans les bureaux de notre partenaire Carr Workplaces sur la Cinquième Avenue\, à quelques blocs de Central Park. \nCe cercle se tiendra mensuellement et tous les mardis.
URL:https://shethemovement.com/event/cercle-dentrepreneures-anime-par-laure-gudgel-2/
LOCATION:Carr Workplaces\, 745 Fifth avenue\, New York\, NY\, 11222\, United States
ATTACH;FMTTYPE=image/jpeg:https://shethemovement.com/wp-content/uploads/2025/07/Carr-workplaces-meeting-room-copie-e1755877531736.jpg
END:VEVENT
BEGIN:VEVENT
DTSTART;TZID=America/New_York:20251118T183000
DTEND;TZID=America/New_York:20251118T200000
DTSTAMP:20260421T173347
CREATED:20251015T145218Z
LAST-MODIFIED:20251108T231244Z
UID:1883-1763490600-1763496000@shethemovement.com
SUMMARY:Masterclass : Data avec Ludivine Hoareau
DESCRIPTION:Plongée dans la data… sans se noyer\navec Ludivine Hoareau – Senior Manager\, Data Analytics & Business Ops Americas chez MAKE UP FOR EVER (LVMH) \nChez SHE the movement\, on croit à la puissance du partage de connaissances. C’est pourquoi nous inaugurons notre nouvelle série Masterclass : Apprendre\, partager\, s’élever. Un format pensé pour nourrir l’esprit\, ouvrir le champ des possibles et créer des connexions puissantes. \nPour cette première édition\, nous avons l’immense plaisir d’accueillir Ludivine Hoareau. Experte en stratégie et en data\, elle a construit un parcours brillant entre web\, digital et pilotage de performance au sein de grandes organisations internationales. Mais surtout\, Ludivine a ce talent rare : rendre simple ce qui paraît complexe… et rendre passionnant ce que l’on pense parfois trop technique. \n🎯 Thème : Comprendre la data pour agir avec impact \nLa data est partout. On en parle beaucoup\, on l’aime\, on la craint\, on la fuit parfois. Mais la vérité\, c’est qu’elle peut devenir un allié puissant dans nos décisions\, nos projets\, nos entreprises et même nos parcours professionnels. \nLudivine nous proposera une exploration claire\, vivante et accessible de cet univers souvent intimidant.\nAu programme : \n\nComprendre ce que la data est (et ce qu’elle n’est pas)\nSavoir l’interpréter (avec son jargon)\nL’utiliser pour donner du sens\, éclairer ses choix et booster son impact\nDécouvrir des cas concrets : marketing\, finance\, RH\, création\, entrepreneuriat… tout le monde est concerné\n\nParce que la data n’est pas qu’une affaire de chiffres\, c’est d’abord une manière de mieux lire le monde et d’agir avec plus de clarté. \n✨ Une masterclass pour toi si… \n\nTu veux monter en compétence \nTu veux prendre des décisions plus stratégiques et argumentées\nTu veux enfin comprendre ce fameux “data-driven” dont tout le monde parle\nTu es entrepreneure\, manager\, créative\, ou tu évolues en marketing\, finance\, RH… bref\, tu fais partie de celles qui transforment les idées en actions.\nTu aimerais être plus à l’aise dans un monde où la data est devenue incontournable\n\nUne rencontre inspirante\, concrète et sans langue de bois\, avec une femme qui a fait de la data un moteur d’impact et de vision.
URL:https://shethemovement.com/event/masterclass-data-avec-ludivine-hoareau/
LOCATION:WeWork\, 1460 Broadway\, New York\, New York\, 10036\, United States
ATTACH;FMTTYPE=image/jpeg:https://shethemovement.com/wp-content/uploads/2025/10/1627574237862-1-e1762444291590.jpeg
END:VEVENT
BEGIN:VEVENT
DTSTART;TZID=America/New_York:20251120T090000
DTEND;TZID=America/New_York:20251120T110000
DTSTAMP:20260421T173347
CREATED:20251027T202444Z
LAST-MODIFIED:20251125T234536Z
UID:1969-1763629200-1763636400@shethemovement.com
SUMMARY:Cercle d'entrepreneures animé par Claire Obry
DESCRIPTION:Rejoignez-nous pour l’atelier entrepreneures emmené par Claire Obry\, fondatrice de la plateforme de produits français French Wink. \nChaque mois\, un groupe de six entrepreneures ou entrepreneures-to-be se retrouve pour échanger sur leurs problématiques\, se soutenir et brainstormer ensemble sur le projet de chacune à travers le co-développement. \nLe partage\, la bienveillance et la confidentialité sont les valeurs fortes de ces cercles\, que chaque participante s’engage à respecter au début de chaque rendez-vous. \nCes cercles ont lieu dans les bureaux de notre partenaire Carr Workplaces sur la Cinquième Avenue\, à quelques blocs de Central Park.
URL:https://shethemovement.com/event/cercle-dentrepreneures-anime-par-claire-obry-2/
LOCATION:Carr Workplaces\, 745 Fifth avenue\, New York\, NY\, 11222\, United States
ATTACH;FMTTYPE=image/jpeg:https://shethemovement.com/wp-content/uploads/2025/08/Carr-workplaces-copie-e1755877559508.jpg
END:VEVENT
BEGIN:VEVENT
DTSTART;TZID=America/New_York:20251125T080000
DTEND;TZID=America/New_York:20251125T170000
DTSTAMP:20260421T173347
CREATED:20251125T234154Z
LAST-MODIFIED:20251125T234154Z
UID:2159-1764057600-1764090000@shethemovement.com
SUMMARY:Cercle d'entrepreneures animé par Laure Gudgel
DESCRIPTION:Rejoignez-nous pour l’atelier entrepreneures emmené par la coach professionnelle Laure Gudgel. \nChaque mois\, un groupe de six entrepreneures ou entrepreneures-to-be se retrouve pour échanger sur leurs problématiques\, se soutenir et brainstormer ensemble sur le projet de chacune à travers le co-développement. \nLe partage\, la bienveillance et la confidentialité sont les valeurs fortes de ces cercles\, que chaque participante s’engage à respecter au début de chaque rendez-vous. \nCes cercles ont lieu dans les bureaux de notre partenaire Carr Workplaces sur la Cinquième Avenue\, à quelques blocs de Central Park. \nCe cercle se tiendra mensuellement et tous les mardis.
URL:https://shethemovement.com/event/cercle-dentrepreneures-anime-par-laure-gudgel-3/
ATTACH;FMTTYPE=image/jpeg:https://shethemovement.com/wp-content/uploads/2025/08/Carr-workplaces-copie-e1755877559508.jpg
END:VEVENT
END:VCALENDAR