BEGIN:VCALENDAR
VERSION:2.0
PRODID:-//shethemovement.com - ECPv6.15.13//NONSGML v1.0//EN
CALSCALE:GREGORIAN
METHOD:PUBLISH
X-WR-CALNAME:shethemovement.com
X-ORIGINAL-URL:https://shethemovement.com
X-WR-CALDESC:Events for shethemovement.com
REFRESH-INTERVAL;VALUE=DURATION:PT1H
X-Robots-Tag:noindex
X-PUBLISHED-TTL:PT1H
BEGIN:VTIMEZONE
TZID:America/New_York
BEGIN:DAYLIGHT
TZOFFSETFROM:-0500
TZOFFSETTO:-0400
TZNAME:EDT
DTSTART:20250309T070000
END:DAYLIGHT
BEGIN:STANDARD
TZOFFSETFROM:-0400
TZOFFSETTO:-0500
TZNAME:EST
DTSTART:20251102T060000
END:STANDARD
BEGIN:DAYLIGHT
TZOFFSETFROM:-0500
TZOFFSETTO:-0400
TZNAME:EDT
DTSTART:20260308T070000
END:DAYLIGHT
BEGIN:STANDARD
TZOFFSETFROM:-0400
TZOFFSETTO:-0500
TZNAME:EST
DTSTART:20261101T060000
END:STANDARD
BEGIN:DAYLIGHT
TZOFFSETFROM:-0500
TZOFFSETTO:-0400
TZNAME:EDT
DTSTART:20270314T070000
END:DAYLIGHT
BEGIN:STANDARD
TZOFFSETFROM:-0400
TZOFFSETTO:-0500
TZNAME:EST
DTSTART:20271107T060000
END:STANDARD
END:VTIMEZONE
BEGIN:VEVENT
DTSTART;TZID=America/New_York:20260108T183000
DTEND;TZID=America/New_York:20260108T203000
DTSTAMP:20260421T171828
CREATED:20251203T224313Z
LAST-MODIFIED:20251215T151903Z
UID:2196-1767897000-1767904200@shethemovement.com
SUMMARY:Apéro networking - Nouvelle année\, nouvelles rencontres ✨
DESCRIPTION:Après le marathon des fêtes\, place à une nouvelle année placée sous le signe de l’audace\, du renouveau… et de cet esprit résolument new-yorkais qui nous pousse à rêver grand. \nPour bien commencer 2026\, SHE the movement vous propose un apéro networking qui fera le plein de lumière au cœur de l’hiver. \nPas de résolutions intenables — seulement l’envie de se retrouver\, de créer des liens et d’imaginer ensemble les projets qui feront vibrer cette année. \nCyrielle et Anne-Laure auront le plaisir de vous rencontrer dans l’espace chaleureux de l’hôtel Alameda à Chelsea\, un cadre accueillant pour renouer avec la communauté SHE the movement\, rencontrer de nouveaux visages\, et partager nos envies\, pros ou persos\, nos inspirations et nos défis — toujours avec bienveillance et ambition. \nNous vous donnons rendez-vous pour ouvrir cette nouvelle année dans une atmosphère conviviale\, portée par la force du collectif. \nNous avons hâte de vous retrouver et de lancer 2026 ensemble ✨
URL:https://shethemovement.com/event/apero-networking-nouvelle-annee-nouvelles-rencontres-%e2%9c%a8/
LOCATION:Alameda Hotel\, 518 West 27th street\, New York\, 10001\, United States
ATTACH;FMTTYPE=image/jpeg:https://shethemovement.com/wp-content/uploads/2025/12/alameda-hotel.jpg
END:VEVENT
BEGIN:VEVENT
DTSTART;TZID=America/New_York:20260110T100000
DTEND;TZID=America/New_York:20260110T113000
DTSTAMP:20260421T171828
CREATED:20251205T161805Z
LAST-MODIFIED:20251205T163813Z
UID:2230-1768039200-1768044600@shethemovement.com
SUMMARY:Atelier Vision Board 2026 💡
DESCRIPTION:Un moment 100% pour toi ✨ \nEt si tu prenais le temps de clarifier ce que tu veux vraiment pour 2026 ? 📅 \nRejoins-nous pour un atelier Vision Board puissant — un exercice de manifestation\, d’intention et d’alignement qui va t’aider à rester connectée toute l’année à tes priorités profondes. \nPeu importe ton style : team scrapbooking obsessionnelle\, ou team vision board digital créatif. L’essentiel est de préparer ton matériel (magazines\, feuille\, ciseaux et colle) ou ton dossier d’inspirations à l’avance\, et de te laisser guider le jour J. \nClaire Obry t’amènera à réfléchir à ta vie à 360° : ta vision pro\, perso\, sociale\, émotionnelle… À mettre sous tes yeux ce que tu laisses souvent en arrière-plan et à rendre visible ce que tu veux désormais assumer pleinement. \nParce qu’un Vision Board\, ce n’est pas un collage mignon. C’est une boussole\, une intention et une direction claire. \nRéserve ce créneau pour toi et offre-toi cet espace pour rêver\, aligner\, manifester. Un atelier doux\, puissant et transformateur pour commencer l’année dans la clarté et la joie. \nCet atelier est réservé à nos membres. Un lien Zoom sera envoyé à toutes les participantes.
URL:https://shethemovement.com/event/atelier-vision-board-2026/
LOCATION:Online
ATTACH;FMTTYPE=image/jpeg:https://shethemovement.com/wp-content/uploads/2025/12/jovan-vasiljevic-e4kruOZB9cw-unsplash.jpg
END:VEVENT
BEGIN:VEVENT
DTSTART;TZID=America/New_York:20260114T183000
DTEND;TZID=America/New_York:20260114T200000
DTSTAMP:20260421T171828
CREATED:20251205T165536Z
LAST-MODIFIED:20251205T165536Z
UID:2231-1768415400-1768420800@shethemovement.com
SUMMARY:Masterclass : Nutrition avec Angéline Galinier-Warrain
DESCRIPTION:Éviter les pièges du quotidien et alléger sa digestion.\n\nVivre aux États-Unis transforme complètement notre façon de manger. Entre les faux aliments “healthy”\, le sucre qui se cache partout\, les portions XXL et les alternatives végétales ultra-transformées\, il devient très facile de faire des choix qui… sans qu’on s’en rende compte… entraînent ballonnements\, fatigue\, petits kilos qui s’installent\, fringales ou digestion capricieuse. \nParce qu’ici\, un simple café au “lait” d’avoine peut contenir autant de sucre qu’un dessert.\nParce qu’un produit estampillé organic n’est pas forcément bon pour la santé.\nParce qu’un aliment “sans gluten” peut être bien plus lourd pour nos intestins qu’une version classique.\nEt parce qu’on adopte parfois des habitudes américaines… en pensant bien faire. \nCette masterclass a un objectif simple :\nvous montrer comment éviter les erreurs invisibles que nous faisons toutes ici et comment retrouver une digestion plus légère et une énergie plus stable. Cette Masterclass est animé par Angéline Galinier-Warrain\, fondatrice de Ma Family Life.  Journaliste Santé & Nutrition Coach certifiée.  \nAU PROGRAMME \n• Comprendre les pièges alimentaires du quotidien qui sabotent notre digestion : ceux qui semblent innocents\, mais qui pèsent sur notre estomac\, notre énergie et parfois même sur notre poids. \n• Apprendre à décrypter les pièges du marché US et à repérer rapidement ce qui alourdit l’organisme\, ce qui fait gonfler le ventre\, ce qui dérègle la faim et comment revenir à des choix simples\, adaptés à la réalité américaine. \n• Les solutions simples pour une digestion légère : Quels sont les aliments et gestes qui apaisent la digestion\, les associations alimentaires qui soutiennent notre énergie\, et les repères qui permettent d’éviter les faux amis du supermarché sans se prendre la tête. \nObjectif : repartir avec des actions concrètes à appliquer dès le lendemain. \n\nPourquoi assister à cet atelier ?\nParce que comprendre ce que l’on mange\, c’est reprendre le pouvoir sur son corps.\nParce que notre digestion influence notre humeur\, notre sommeil\, notre énergie.\nParce que l’alimentation n’est pas un combat : c’est une clé.\nParce qu’ici\, beaucoup d’inconforts que l’on croit “normaux” (ventre gonflé\, baisse d’énergie\, envies de sucre\, poids qui varie) sont souvent liés… à des choix alimentaires piégeux propres au marché américain. \nRejoignez-nous pour une masterclass qui décrypte nos assiettes\, dissipe les doutes et nous donne des repères concrets pour nous sentir plus légères dans nos corps et plus sereines dans nos choix.
URL:https://shethemovement.com/event/masterclass-nutrition-avec-angeline-galinier-warrain/
LOCATION:WeWork\, 1460 Broadway\, New York\, New York\, 10036\, United States
ATTACH;FMTTYPE=image/jpeg:https://shethemovement.com/wp-content/uploads/2025/12/2.jpg
END:VEVENT
BEGIN:VEVENT
DTSTART;TZID=America/New_York:20260122T090000
DTEND;TZID=America/New_York:20260122T110000
DTSTAMP:20260421T171828
CREATED:20251203T224721Z
LAST-MODIFIED:20251203T224737Z
UID:2208-1769072400-1769079600@shethemovement.com
SUMMARY:Cercle d'entrepreneures animé par Claire Obry
DESCRIPTION:Rejoignez-nous pour l’atelier entrepreneures emmené par Claire Obry\, fondatrice de la plateforme de produits français French Wink. \nChaque mois\, un groupe de six entrepreneures ou entrepreneures-to-be se retrouve pour échanger sur leurs problématiques\, se soutenir et brainstormer ensemble sur le projet de chacune à travers le co-développement. \nLe partage\, la bienveillance et la confidentialité sont les valeurs fortes de ces cercles\, que chaque participante s’engage à respecter au début de chaque rendez-vous. \nCes cercles ont lieu dans les bureaux de notre partenaire Carr Workplaces sur la Cinquième Avenue\, à quelques blocs de Central Park.
URL:https://shethemovement.com/event/cercle-dentrepreneures-anime-par-claire-obry-5/
LOCATION:Carr Workplaces\, 745 Fifth avenue\, New York\, NY\, 11222\, United States
ATTACH;FMTTYPE=image/jpeg:https://shethemovement.com/wp-content/uploads/2025/07/Carr-workplaces-meeting-room-copie-e1755877531736.jpg
END:VEVENT
BEGIN:VEVENT
DTSTART;TZID=America/New_York:20260127T090000
DTEND;TZID=America/New_York:20260127T110000
DTSTAMP:20260421T171828
CREATED:20251203T224534Z
LAST-MODIFIED:20260106T160906Z
UID:2205-1769504400-1769511600@shethemovement.com
SUMMARY:Cercle d'entrepreneures animé par Laure Gudgel
DESCRIPTION:Rejoignez-nous pour l’atelier entrepreneures emmené par la coach professionnelle Laure Gudgel. \nChaque mois\, un groupe de six entrepreneures ou entrepreneures-to-be se retrouve pour échanger sur leurs problématiques\, se soutenir et brainstormer ensemble sur le projet de chacune à travers le co-développement. \nLe partage\, la bienveillance et la confidentialité sont les valeurs fortes de ces cercles\, que chaque participante s’engage à respecter au début de chaque rendez-vous. \nCes cercles ont lieu dans les bureaux de notre partenaire Carr Workplaces sur la Cinquième Avenue\, à quelques blocs de Central Park. \nCe cercle se tiendra mensuellement et tous les mardis.
URL:https://shethemovement.com/event/cercle-dentrepreneures-anime-par-laure-gudgel-4/
LOCATION:Carr Workplaces\, 745 Fifth avenue\, New York\, NY\, 11222\, United States
ATTACH;FMTTYPE=image/jpeg:https://shethemovement.com/wp-content/uploads/2025/08/Carr-workplaces-copie-e1755877559508.jpg
END:VEVENT
BEGIN:VEVENT
DTSTART;TZID=America/New_York:20260129T183000
DTEND;TZID=America/New_York:20260129T203000
DTSTAMP:20260421T171828
CREATED:20260108T183148Z
LAST-MODIFIED:20260121T160915Z
UID:2465-1769711400-1769718600@shethemovement.com
SUMMARY:Caroline Faucher-Winter\, French Tech New York
DESCRIPTION:Présider l’écosystème de la French Tech dans la capitale financière mondiale\, cumuler les casquettes de communicante\, serial connector\, amatrice de musique\, de photos et de soirées endiablées. Entre toutes ces casquettes\, Caroline Faucher-Winter a choisi…. de ne pas choisir. \nArrivée il y a 20 ans aux Etats-Unis avec son mari entrepreneur\, elle a depuis construit une vie riche à Washington puis à New York\, a travaillé pour le représentant de la Banque centrale européenne au FMI\, puis manager d’artiste\, avant de fonder son agence de relations presse\, Six Heures\, et de s’investir au sein de la prestigieuse French Tech New York\, dont elle a pris la présidence den 2021. \nCaroline nous racontera son parcours de femme et de touche-à-tout\, la vision transactionnelle des connexions dans le monde pro anglo-saxon\, la façon dont les Américains ont visualisent le “giving first”\, qui influence le quotidien des New Yorkais. Mais aussi les évolutions de l’écosystème French Tech New York dans les dernières années. \nNous avons hâte de vous retrouver pour ce premier guest speaker event de l’année\, placé sous le signe des connexions vraies\, pour faire le plein d’énergie positive pour 2026 ✨
URL:https://shethemovement.com/event/caroline-faucher-winter-french-tech-new-york/
LOCATION:Carr Workplaces\, 745 Fifth avenue\, New York\, NY\, 11222\, United States
ATTACH;FMTTYPE=image/png:https://shethemovement.com/wp-content/uploads/2026/01/Design-sans-titre-3.png
END:VEVENT
END:VCALENDAR