BEGIN:VCALENDAR
VERSION:2.0
PRODID:-//shethemovement.com - ECPv6.15.13//NONSGML v1.0//EN
CALSCALE:GREGORIAN
METHOD:PUBLISH
X-WR-CALNAME:shethemovement.com
X-ORIGINAL-URL:https://shethemovement.com
X-WR-CALDESC:Events for shethemovement.com
REFRESH-INTERVAL;VALUE=DURATION:PT1H
X-Robots-Tag:noindex
X-PUBLISHED-TTL:PT1H
BEGIN:VTIMEZONE
TZID:America/New_York
BEGIN:DAYLIGHT
TZOFFSETFROM:-0500
TZOFFSETTO:-0400
TZNAME:EDT
DTSTART:20250309T070000
END:DAYLIGHT
BEGIN:STANDARD
TZOFFSETFROM:-0400
TZOFFSETTO:-0500
TZNAME:EST
DTSTART:20251102T060000
END:STANDARD
BEGIN:DAYLIGHT
TZOFFSETFROM:-0500
TZOFFSETTO:-0400
TZNAME:EDT
DTSTART:20260308T070000
END:DAYLIGHT
BEGIN:STANDARD
TZOFFSETFROM:-0400
TZOFFSETTO:-0500
TZNAME:EST
DTSTART:20261101T060000
END:STANDARD
BEGIN:DAYLIGHT
TZOFFSETFROM:-0500
TZOFFSETTO:-0400
TZNAME:EDT
DTSTART:20270314T070000
END:DAYLIGHT
BEGIN:STANDARD
TZOFFSETFROM:-0400
TZOFFSETTO:-0500
TZNAME:EST
DTSTART:20271107T060000
END:STANDARD
END:VTIMEZONE
BEGIN:VEVENT
DTSTART;TZID=America/New_York:20260203T190000
DTEND;TZID=America/New_York:20260203T203000
DTSTAMP:20260421T142501
CREATED:20260113T211229Z
LAST-MODIFIED:20260119T222735Z
UID:2540-1770145200-1770150600@shethemovement.com
SUMMARY:Workshop : Le couple sans tabou avec L'atelier Sexo
DESCRIPTION:Le couple sans tabou : ce qui se joue vraiment\nQuand l’amour déclenche autant de joie… que de peurs !  \nAimer est une expérience intense\, mais ce sont rarement les moments heureux qui fragilisent une relation. Ce sont les émotions fortes : la frustration qui s’accumule\, la colère qui déborde\, la peur de l’abandon\, le sentiment d’injustice\, le manque de reconnaissance. Ces émotions\, lorsqu’elles ne sont ni entendues ni exprimées\, s’installent en silence et finissent par fissurer le lien. \nSelon les travaux du psychologue John Gottman\, près de 70 % des conflits de couple reposent sur des problèmes récurrents et non résolus. Il ne s’agit pas de simples désaccords du quotidien\, mais de sujets profonds et structurants : les valeurs\, les besoins émotionnels\, le rapport au désir\, à la sécurité\, au pouvoir\, à la liberté\, à l’argent. Des conflits chargés d’émotions\, souvent alimentés par des peurs puissantes et rarement formulées. \nNous avons longtemps cru que l’amour suffisait\, que la passion des débuts durerait et que le lien tiendrait presque tout seul. Puis la vie arrive\, avec son lot de réalités : la routine\, la charge mentale\, les impératifs professionnels\, l’expatriation\, les transformations individuelles. Peu à peu\, quelque chose se décale. Et une question s’installe\, parfois sans même être prononcée : sommes-nous encore vraiment connectés ? \nDerrière les disputes répétées\, ou derrière le silence qui s’installe\, il y a presque toujours les mêmes peurs : la peur de ne plus être désiré·e\, de ne plus être vu·e\, de perdre l’autre ou\, à l’inverse\, de se perdre soi-même dans la relation. Il y a aussi la peur de parler\, de mettre des mots sur ce qui dérange\, par crainte de déclencher une crise irréversible. Alors on évite\, on minimise\, on encaisse… jusqu’à ce que la distance s’installe ou que le conflit explose. \nLa question n’est donc pas d’éviter les conflits\, mais d’apprendre à les traverser autrement. Comment rester reliés quand les émotions débordent ? Comment transformer les tensions en leviers de compréhension plutôt qu’en fractures ? Comment continuer à nourrir le désir\, l’intimité et la sécurité affective dans la durée\, sans s’oublier\, ni s’éteindre ? \nLe workshop\nLors de ce workshop exclusif de 1h30\, animé par Cyrielle Augier\, sexothérapeute et thérapeute de couple @L’atelier Sexo\, nous plongerons au cœur de ce qui se joue réellement dans la relation. Un espace pour comprendre les émotions fortes\, mettre en lumière les peurs cachées et découvrir des clés concrètes pour recréer du lien\, même lorsque la relation traverse une zone de turbulence. \nAu programme\n\nComprendre le cycle du couple et les tempêtes émotionnelles qui l’accompagnent.\nApprendre à communiquer même quand c’est inconfortable\, sans attaquer\, ni se taire.\nIdentifier vos besoins émotionnels\, relationnels et intimes\, souvent enfouis sous les conflits.\nMieux répartir le temps\, l’énergie et la charge mentale pour apaiser les tensions.\nSavoir reconnaître les signaux d’alerte : quand réparer\, quand réinventer…\n\nUn questionnaire préparatoire vous sera envoyé en amont afin de faire le point sur votre relation\, vos zones de tension\, vos ressources et vos leviers de transformation. \nExperte : Cyrielle est sexothérapeute et thérapeute de couple\, française basée à New York depuis 10 ans. Elle accompagne les femmes et les couples à se reconnecter à leur sphère intime et relationnelle.  Spécialiste des dynamiques conjugales en expatriation et des couples binationaux\, elle aide ses patients à mieux comprendre leurs besoins et à retrouver un équilibre affectif et intime. \nCet atelier est un espace safe\, pédagogique et décomplexé pour poser des mots sur ce que beaucoup vivent sans jamais l’exprimer.
URL:https://shethemovement.com/event/workshop-le-couple-sans-tabou-avec-latelier-sexo/
LOCATION:WeWork\, 1460 Broadway\, New York\, New York\, 10036\, United States
ATTACH;FMTTYPE=image/png:https://shethemovement.com/wp-content/uploads/2026/01/4.png
END:VEVENT
BEGIN:VEVENT
DTSTART;TZID=America/New_York:20260210T193000
DTEND;TZID=America/New_York:20260210T210000
DTSTAMP:20260421T142501
CREATED:20260113T200941Z
LAST-MODIFIED:20260129T172133Z
UID:2528-1770751800-1770757200@shethemovement.com
SUMMARY:TABLE & TALES
DESCRIPTION:✨ Table & Tales • Une nouvelle façon de se rencontrer ✨ \n« Table & Tales » est le dîner réservé aux membres She the Movement. Une soirée intimiste pour échanger\, partager et créer des liens dans un cadre convivial et choisi avec soin. \nTous les 2 mois\, nous vous donnons rendez-vous dans un restaurant sélectionné avec attention\, pour un dîner intimiste (10 personnes maximum) où chaque conversation est guidée par vos hôtes\, Cyrielle & Anne-Laure. \nLe concept ? \n\nUn menu mix & fixe conçu pour éveiller vos papilles\nUne ambiance chaleureuse propice aux échanges et aux nouvelles rencontres\nDes discussions inspirantes pour connecter avec d’autres membres\n\nNous aurons le plaisir d’être accueillies chez Saint-Tropez\, restaurant & wine bar\, qui nous fera goûter à l’art de vivre vibrant et aux traditions culinaires de la Côte d’Azur. \n. \nCette expérience comprend : \n\nUn verre de bienvenue \nDes entrées à partager : parfaites pour commencer la soirée ensemble.\nUn plat principal servi individuellement pour savourer pleinement chaque bouchée\nUn dessert à partager\, pour finir sur une note sucrée et conviviale\nVin à volonté (rouge\, blanc ou rosé) pour trinquer à nos moments partagés\nPrix fixe : $90 par personne (plus tax and 20% gratuity\, paiement sur place))\n\nUne soirée unique où le plaisir de partager un bon repas rencontre la joie de rencontrer de nouvelles femmes de la communauté. \n💫 Faites de nouvelles rencontres et réservez votre place pour le prochain « Table & Tales »!
URL:https://shethemovement.com/event/table-tales-3/
LOCATION:Saint Tropez\, 304 W 4th St\, new york\, 10014\, United States
ATTACH;FMTTYPE=image/png:https://shethemovement.com/wp-content/uploads/2026/01/Visuels-event-SHE.png
END:VEVENT
BEGIN:VEVENT
DTSTART;TZID=America/New_York:20260224T090000
DTEND;TZID=America/New_York:20260224T110000
DTSTAMP:20260421T142501
CREATED:20260127T173120Z
LAST-MODIFIED:20260127T173120Z
UID:2571-1771923600-1771930800@shethemovement.com
SUMMARY:Cercle d'entrepreneures animé par Laure Gudgel
DESCRIPTION:Rejoignez-nous pour l’atelier entrepreneures emmené par la coach professionnelle Laure Gudgel. \nChaque mois\, un groupe de six entrepreneures ou entrepreneures-to-be se retrouve pour échanger sur leurs problématiques\, se soutenir et brainstormer ensemble sur le projet de chacune à travers le co-développement. \nLe partage\, la bienveillance et la confidentialité sont les valeurs fortes de ces cercles\, que chaque participante s’engage à respecter au début de chaque rendez-vous. \nCes cercles ont lieu dans les bureaux de notre partenaire Carr Workplaces sur la Cinquième Avenue\, à quelques blocs de Central Park. \nCe cercle se tiendra mensuellement et tous les mardis.
URL:https://shethemovement.com/event/cercle-dentrepreneures-anime-par-laure-gudgel-5/
LOCATION:Carr Workplaces\, 745 Fifth avenue\, New York\, NY\, 11222\, United States
ATTACH;FMTTYPE=image/jpeg:https://shethemovement.com/wp-content/uploads/2025/08/Carr-workplaces-copie-e1755877559508.jpg
END:VEVENT
BEGIN:VEVENT
DTSTART;TZID=America/New_York:20260226T090000
DTEND;TZID=America/New_York:20260226T110000
DTSTAMP:20260421T142501
CREATED:20260127T173106Z
LAST-MODIFIED:20260127T173106Z
UID:2568-1772096400-1772103600@shethemovement.com
SUMMARY:Cercle d'entrepreneures animé par Claire Obry
DESCRIPTION:Rejoignez-nous pour l’atelier entrepreneures emmené par Claire Obry\, fondatrice de la plateforme de produits français French Wink. \nChaque mois\, un groupe de six entrepreneures ou entrepreneures-to-be se retrouve pour échanger sur leurs problématiques\, se soutenir et brainstormer ensemble sur le projet de chacune à travers le co-développement. \nLe partage\, la bienveillance et la confidentialité sont les valeurs fortes de ces cercles\, que chaque participante s’engage à respecter au début de chaque rendez-vous. \nCes cercles ont lieu dans les bureaux de notre partenaire Carr Workplaces sur la Cinquième Avenue\, à quelques blocs de Central Park.
URL:https://shethemovement.com/event/cercle-dentrepreneures-anime-par-claire-obry-6/
LOCATION:Carr Workplaces\, 745 Fifth avenue\, New York\, NY\, 11222\, United States
ATTACH;FMTTYPE=image/jpeg:https://shethemovement.com/wp-content/uploads/2025/07/Carr-workplaces-meeting-room-copie-e1755877531736.jpg
END:VEVENT
BEGIN:VEVENT
DTSTART;TZID=America/New_York:20260226T184500
DTEND;TZID=America/New_York:20260226T203000
DTSTAMP:20260421T142501
CREATED:20260119T220722Z
LAST-MODIFIED:20260129T211807Z
UID:2575-1772131500-1772137800@shethemovement.com
SUMMARY:Masterclass : AI avec Charlotte HAUSEMER
DESCRIPTION:Utiliser l’IA au quotidien pour gagner en productivité et alléger sa charge mentale \nLa révolution de l’IA transforme notre façon de travailler. Entre les outils “miracles”\, les promesses d’automatisation totale et la course au dernier modèle\, on se sent facilement perdu\, dispersé et on ne voit pas le bénéfice dans notre quotidien. \nParce qu’un outil “AI-powered” n’est pas forcément utile. Parce qu’un chatbot peut coûter plus qu’il ne rapporte. Parce que copier-coller les prompts des autres apporte rarement de la valeur. \nCette masterclass a un objectif : vous aider à comprendre les concepts essentiels pour faire de l’IA votre alliée et vous donner des repères concrets pour bâtir vos propres agents\, sans jargon inutile. \nElle sera animée par Charlotte Hausemer\, consultante en intelligence artificielle auprès de dirigeants et d’entreprises franco-américaines. Ingénieure de formation\, elle déploie des projets mêlant IA et nouvelles technologies depuis 2009\, en banque d’investissement et au sein de grands groupes. Elle a aujourd’hui choisi de mettre sa méthode au service de plus petites entreprises\, avec une approche humaine et accessible. \nAU PROGRAMME:  \n\nLes concepts clés pour distinguer le signal du bruit : agents\, LLM\, hype vs utilité réelle. \nComment identifier rapidement ce qui peut vraiment vous être utile. \nComment choisir un outil ou un LLM\, et quels principes poser avant de se lancer. \nLes erreurs courantes qui diluent la valeur et épuisent les équipes.\n\nObjectif Repartir avec des repères clairs et des actions concrètes à appliquer dès le lendemain\, sans être technique\, sans tout changer et sans se disperser. \nPourquoi participer ? Parce que l’IA influence déjà votre productivité\, votre organisation et vos décisions. Parce que\, quel que soit votre rôle\, vous serez amenée à utiliser des outils IA ou à interagir avec des agents. Parce que beaucoup de frictions “normales” sont en réalité liées à une mauvaise adoption de l’IA. \nUne masterclass pour démystifier l’IA et créer de la valeur\, sans bruit ni illusion\, conçue pour vous inspirer à construire vos propres agents.
URL:https://shethemovement.com/event/masterclass-ai-avec-charlotte-hausemer/
LOCATION:WeWork\, 1460 Broadway\, New York\, New York\, 10036\, United States
ATTACH;FMTTYPE=image/png:https://shethemovement.com/wp-content/uploads/2026/01/Visuels-event-SHE-1.png
END:VEVENT
END:VCALENDAR