BEGIN:VCALENDAR
VERSION:2.0
PRODID:-//shethemovement.com - ECPv6.15.13//NONSGML v1.0//EN
CALSCALE:GREGORIAN
METHOD:PUBLISH
X-WR-CALNAME:shethemovement.com
X-ORIGINAL-URL:https://shethemovement.com
X-WR-CALDESC:Events for shethemovement.com
REFRESH-INTERVAL;VALUE=DURATION:PT1H
X-Robots-Tag:noindex
X-PUBLISHED-TTL:PT1H
BEGIN:VTIMEZONE
TZID:America/New_York
BEGIN:DAYLIGHT
TZOFFSETFROM:-0500
TZOFFSETTO:-0400
TZNAME:EDT
DTSTART:20250309T070000
END:DAYLIGHT
BEGIN:STANDARD
TZOFFSETFROM:-0400
TZOFFSETTO:-0500
TZNAME:EST
DTSTART:20251102T060000
END:STANDARD
BEGIN:DAYLIGHT
TZOFFSETFROM:-0500
TZOFFSETTO:-0400
TZNAME:EDT
DTSTART:20260308T070000
END:DAYLIGHT
BEGIN:STANDARD
TZOFFSETFROM:-0400
TZOFFSETTO:-0500
TZNAME:EST
DTSTART:20261101T060000
END:STANDARD
BEGIN:DAYLIGHT
TZOFFSETFROM:-0500
TZOFFSETTO:-0400
TZNAME:EDT
DTSTART:20270314T070000
END:DAYLIGHT
BEGIN:STANDARD
TZOFFSETFROM:-0400
TZOFFSETTO:-0500
TZNAME:EST
DTSTART:20271107T060000
END:STANDARD
END:VTIMEZONE
BEGIN:VEVENT
DTSTART;TZID=America/New_York:20260311T103000
DTEND;TZID=America/New_York:20260311T120000
DTSTAMP:20260421T125035
CREATED:20260211T173142Z
LAST-MODIFIED:20260218T184418Z
UID:2723-1773225000-1773230400@shethemovement.com
SUMMARY:Rencontre avec Pauline Piastrelli X Boucheron
DESCRIPTION:Member Only Experience \nNous avons l’immense privilège d’être accueillies au sein de la Maison Boucheron pour un moment exclusif\, réservé à nos membres. \nDans l’écrin élégant de la boutique\, nous partirons à la rencontre de Pauline Piastrelli et plongerons dans les coulisses d’un parcours au croisement du leadership\, de la finance stratégique et de l’exigence du luxe. \nAujourd’hui VP Finance Americas chez Boucheron – groupe Kering\, Pauline incarne une trajectoire à la fois fidèle et audacieuse. Elle a construit toute sa carrière au sein de la Maison\, évoluant avec constance et ambition dans un univers où excellence et performance vont de pair. \nArrivée à New York il y a un an et demi avec son mari et leurs quatre enfants (dont des jumeaux de 4 ans)\, elle conjugue responsabilités stratégiques sur le continent américain et équilibre familial en expatriation.\nFidélité à une Maison\, évolution interne\, leadership au féminin\, mobilité internationale\, prise de décision dans un environnement exigeant : son parcours réunit engagement\, vision et résilience. \nCette interview café \, pensée comme un dialogue ouvert : authentique\, accessible\, sans filtre. \nUn moment pour :\n– comprendre les étapes clés d’une carrière ambitieuse dans le luxe\,\n– découvrir les enjeux de la finance au sein d’une Maison iconique\,\n– parler vision\, audace\, équilibre\, mais aussi doutes et réalités du terrain\, \nLes places seront  limitées. Nous avons hâte de vivre ce moment privilégié avec vous. \nCyrielle & Anne-Laure
URL:https://shethemovement.com/event/rencontre-avec-pauline-piastrelli-x-boucheron/
LOCATION:Boucheron\, 747 Madison Ave\, New York\,\, New York\, New york\, 10065\, United States
ATTACH;FMTTYPE=image/jpeg:https://shethemovement.com/wp-content/uploads/2026/02/PHOTO-2026-02-11-09-58-29-e1770830816985.jpg
END:VEVENT
BEGIN:VEVENT
DTSTART;TZID=America/New_York:20260318T183000
DTEND;TZID=America/New_York:20260318T203000
DTSTAMP:20260421T125035
CREATED:20260216T172542Z
LAST-MODIFIED:20260318T170437Z
UID:2743-1773858600-1773865800@shethemovement.com
SUMMARY:Rencontre avec Elisabeth Holder
DESCRIPTION:De la maison familiale Ladurée à Maison Holder : une deuxième aventure entrepreneuriale \nLe 18 mars prochain\, nous aurons le plaisir d’être reçues par Elisabeth Holder\, ancienne CEO du groupe familial Ladurée US\, qui s’est réinventée en lançant le concept store Ooof (Out Of the Office Forever) avec son associée Céline Kaplan\, puis aujourd’hui Maison Holder\, une curation de maison françaises d’art de vivre. \nAprès un début de carrière dans le groupe familiale Holder\, propriétaire des boulangeries Paul et de Ladurée\, Elisabeth est arrivée à New York en 2014 comme CEO de Ladurée USA\, pour développer l’activité américaine de cette maison française iconique. Elle nous racontera cet héritage familial\, comment elle a adapté Ladurée au marché américain pendant 10 ans\, et sa décision de prendre du recul pour lancer sa propre aventure entrepreneuriale. \nElle nous expliquera son association avec Céline Kaplan pour lancer Ooof et son parti pris loufoque et décalé\, après la pandémie. Puis la naissance de Maison Holder\, et son choix de promouvoir “l’art du beau” français pour une audience américaine. Nous découvrirons son joli intérieur à SoHo et les objets Maison Holder sélectionnés par ses soins. \n 
URL:https://shethemovement.com/event/rencontre-avec-elisabeth-holder/
LOCATION:Loft SoHo – 421 West Broadway 5th Floor\, 421 West Broadway - 5th Floor\, New York\, 10012\, United States
ATTACH;FMTTYPE=image/jpeg:https://shethemovement.com/wp-content/uploads/2026/02/elisabeth-holder_007-e1771065757540.jpg
END:VEVENT
BEGIN:VEVENT
DTSTART;TZID=America/New_York:20260324T090000
DTEND;TZID=America/New_York:20260324T110000
DTSTAMP:20260421T125035
CREATED:20260303T203747Z
LAST-MODIFIED:20260303T203747Z
UID:2831-1774342800-1774350000@shethemovement.com
SUMMARY:Cercle d'entrepreneures animé par Laure Gudgel
DESCRIPTION:Rejoignez-nous pour l’atelier entrepreneures emmené par la coach professionnelle Laure Gudgel. \nChaque mois\, un groupe de six entrepreneures ou entrepreneures-to-be se retrouve pour échanger sur leurs problématiques\, se soutenir et brainstormer ensemble sur le projet de chacune à travers le co-développement. \nLe partage\, la bienveillance et la confidentialité sont les valeurs fortes de ces cercles\, que chaque participante s’engage à respecter au début de chaque rendez-vous. \nCes cercles ont lieu dans les bureaux de notre partenaire Carr Workplaces sur la Cinquième Avenue\, à quelques blocs de Central Park. \nCe cercle se tiendra mensuellement et tous les mardis.
URL:https://shethemovement.com/event/cercle-dentrepreneures-anime-par-laure-gudgel-6/
LOCATION:Carr Workplaces\, 745 Fifth avenue\, New York\, NY\, 11222\, United States
ATTACH;FMTTYPE=image/jpeg:https://shethemovement.com/wp-content/uploads/2025/08/Carr-workplaces-copie-e1755877559508.jpg
END:VEVENT
BEGIN:VEVENT
DTSTART;TZID=America/New_York:20260326T090000
DTEND;TZID=America/New_York:20260326T110000
DTSTAMP:20260421T125035
CREATED:20260303T223717Z
LAST-MODIFIED:20260304T210623Z
UID:2834-1774515600-1774522800@shethemovement.com
SUMMARY:Cercle d'entrepreneures animé par Claire Obry
DESCRIPTION:Rejoignez-nous pour l’atelier entrepreneures emmené par Claire Obry\, fondatrice de la plateforme de produits français French Wink. \nChaque mois\, un groupe de six entrepreneures ou entrepreneures-to-be se retrouve pour échanger sur leurs problématiques\, se soutenir et brainstormer ensemble sur le projet de chacune à travers le co-développement. \nLe partage\, la bienveillance et la confidentialité sont les valeurs fortes de ces cercles\, que chaque participante s’engage à respecter au début de chaque rendez-vous. \nCes cercles ont lieu dans les bureaux de notre partenaire Carr Workplaces sur la Cinquième Avenue\, à quelques blocs de Central Park.
URL:https://shethemovement.com/event/cercle-dentrepreneures-anime-par-claire-obry-7/
LOCATION:Carr Workplaces\, 745 Fifth avenue\, New York\, NY\, 11222\, United States
ATTACH;FMTTYPE=image/jpeg:https://shethemovement.com/wp-content/uploads/2025/07/Carr-workplaces-meeting-room-copie-e1755877531736.jpg
END:VEVENT
END:VCALENDAR