BEGIN:VCALENDAR
VERSION:2.0
PRODID:-//shethemovement.com - ECPv6.15.13//NONSGML v1.0//EN
CALSCALE:GREGORIAN
METHOD:PUBLISH
X-WR-CALNAME:shethemovement.com
X-ORIGINAL-URL:https://shethemovement.com
X-WR-CALDESC:Events for shethemovement.com
REFRESH-INTERVAL;VALUE=DURATION:PT1H
X-Robots-Tag:noindex
X-PUBLISHED-TTL:PT1H
BEGIN:VTIMEZONE
TZID:America/New_York
BEGIN:DAYLIGHT
TZOFFSETFROM:-0500
TZOFFSETTO:-0400
TZNAME:EDT
DTSTART:20250309T070000
END:DAYLIGHT
BEGIN:STANDARD
TZOFFSETFROM:-0400
TZOFFSETTO:-0500
TZNAME:EST
DTSTART:20251102T060000
END:STANDARD
BEGIN:DAYLIGHT
TZOFFSETFROM:-0500
TZOFFSETTO:-0400
TZNAME:EDT
DTSTART:20260308T070000
END:DAYLIGHT
BEGIN:STANDARD
TZOFFSETFROM:-0400
TZOFFSETTO:-0500
TZNAME:EST
DTSTART:20261101T060000
END:STANDARD
BEGIN:DAYLIGHT
TZOFFSETFROM:-0500
TZOFFSETTO:-0400
TZNAME:EDT
DTSTART:20270314T070000
END:DAYLIGHT
BEGIN:STANDARD
TZOFFSETFROM:-0400
TZOFFSETTO:-0500
TZNAME:EST
DTSTART:20271107T060000
END:STANDARD
END:VTIMEZONE
BEGIN:VEVENT
DTSTART;TZID=America/New_York:20260129T183000
DTEND;TZID=America/New_York:20260129T203000
DTSTAMP:20260416T131807
CREATED:20260108T183148Z
LAST-MODIFIED:20260121T160915Z
UID:2465-1769711400-1769718600@shethemovement.com
SUMMARY:Caroline Faucher-Winter\, French Tech New York
DESCRIPTION:Présider l’écosystème de la French Tech dans la capitale financière mondiale\, cumuler les casquettes de communicante\, serial connector\, amatrice de musique\, de photos et de soirées endiablées. Entre toutes ces casquettes\, Caroline Faucher-Winter a choisi…. de ne pas choisir. \nArrivée il y a 20 ans aux Etats-Unis avec son mari entrepreneur\, elle a depuis construit une vie riche à Washington puis à New York\, a travaillé pour le représentant de la Banque centrale européenne au FMI\, puis manager d’artiste\, avant de fonder son agence de relations presse\, Six Heures\, et de s’investir au sein de la prestigieuse French Tech New York\, dont elle a pris la présidence den 2021. \nCaroline nous racontera son parcours de femme et de touche-à-tout\, la vision transactionnelle des connexions dans le monde pro anglo-saxon\, la façon dont les Américains ont visualisent le “giving first”\, qui influence le quotidien des New Yorkais. Mais aussi les évolutions de l’écosystème French Tech New York dans les dernières années. \nNous avons hâte de vous retrouver pour ce premier guest speaker event de l’année\, placé sous le signe des connexions vraies\, pour faire le plein d’énergie positive pour 2026 ✨
URL:https://shethemovement.com/event/caroline-faucher-winter-french-tech-new-york/
LOCATION:Carr Workplaces\, 745 Fifth avenue\, New York\, NY\, 11222\, United States
ATTACH;FMTTYPE=image/png:https://shethemovement.com/wp-content/uploads/2026/01/Design-sans-titre-3.png
END:VEVENT
END:VCALENDAR