BEGIN:VCALENDAR
VERSION:2.0
PRODID:-//shethemovement.com - ECPv6.15.13//NONSGML v1.0//EN
CALSCALE:GREGORIAN
METHOD:PUBLISH
X-WR-CALNAME:shethemovement.com
X-ORIGINAL-URL:https://shethemovement.com
X-WR-CALDESC:Events for shethemovement.com
REFRESH-INTERVAL;VALUE=DURATION:PT1H
X-Robots-Tag:noindex
X-PUBLISHED-TTL:PT1H
BEGIN:VTIMEZONE
TZID:America/New_York
BEGIN:DAYLIGHT
TZOFFSETFROM:-0500
TZOFFSETTO:-0400
TZNAME:EDT
DTSTART:20240310T070000
END:DAYLIGHT
BEGIN:STANDARD
TZOFFSETFROM:-0400
TZOFFSETTO:-0500
TZNAME:EST
DTSTART:20241103T060000
END:STANDARD
BEGIN:DAYLIGHT
TZOFFSETFROM:-0500
TZOFFSETTO:-0400
TZNAME:EDT
DTSTART:20250309T070000
END:DAYLIGHT
BEGIN:STANDARD
TZOFFSETFROM:-0400
TZOFFSETTO:-0500
TZNAME:EST
DTSTART:20251102T060000
END:STANDARD
BEGIN:DAYLIGHT
TZOFFSETFROM:-0500
TZOFFSETTO:-0400
TZNAME:EDT
DTSTART:20260308T070000
END:DAYLIGHT
BEGIN:STANDARD
TZOFFSETFROM:-0400
TZOFFSETTO:-0500
TZNAME:EST
DTSTART:20261101T060000
END:STANDARD
END:VTIMEZONE
BEGIN:VEVENT
DTSTART;TZID=America/New_York:20251210T183000
DTEND;TZID=America/New_York:20251210T200000
DTSTAMP:20260418T014920
CREATED:20251113T213131Z
LAST-MODIFIED:20251205T170305Z
UID:2096-1765391400-1765396800@shethemovement.com
SUMMARY:Pomellato •  Private Evening
DESCRIPTION:SHE the Movement x Pomellato  \nPrivate Evening \nUne expérience exclusive\, intime et inspirante pour nos membres. \nNous avons la chance de rencontrer Prisca Centaure\, Global Chief People Officer de Pomellato\, marque iconique de la joaillerie italienne\, symbole d’audace\, d’élégance et de liberté féminine. \nL’histoire d’une maison avant-gardiste\nFondée à Milan en 1967\, Pomellato a révolutionné le monde de la joaillerie en imposant un style à la fois moderne et sensuel\, pensé pour des femmes libres et affirmées.\nPremière maison à introduire la notion de prêt-à-porter joaillier\, Pomellato a bousculé les codes du luxe en proposant des bijoux à porter chaque jour comme une seconde peau\, une expression de soi.\nSa signature ? Des volumes généreux\, des pierres colorées\, des associations audacieuses et une esthétique profondément milanaise : raffinée\, confiante\, intemporelle. \nBasée à Milan\, Prisca Centaure incarne cette vision contemporaine du leadership féminin. Elle sera à New York et nous ouvrira les portes du Pomellato Private Lounge\, un écrin confidentiel.. \n🌟 Un cadre unique pour une rencontre rare.\nAutour d’un cocktail intimiste\, vous découvrirez les valeurs puissantes de la maison Pomellato\, profondément ancrées dans le women empowerment\, la créativité et la sororité. \nNotre invitée partagera sa vision du leadership féminin\, de la transmission et de l’impact des femmes dans le monde du luxe\, avant de nous présenter les collections emblématiques de la maison véritables manifestes de féminité et de liberté. \n✨ Une expérience VIP réservée exclusivement à nos membres.
URL:https://shethemovement.com/event/pomellato-private-evening/
LOCATION:Casa Pomellato  595 Madisson Avenue\,\, 595 Madisson Avenue\,\, New york\, NY\, 10065\, United States
ATTACH;FMTTYPE=image/jpeg:https://shethemovement.com/wp-content/uploads/2025/11/1.jpg
END:VEVENT
END:VCALENDAR